BEGIN:VCALENDAR
VERSION:2.0
PRODID:icalendar-ruby
CALSCALE:GREGORIAN
METHOD:PUBLISH
BEGIN:VEVENT
DTSTAMP:20251008T114947Z
UID:98b0dbc1-5193-41c0-a33f-dd53847fa779
DTSTART;VALUE=DATE:20250425
DTEND;VALUE=DATE:20250425
CLASS:PRIVATE
DESCRIPTION:L'evento si terrà a \n\nVisita sefem-ilcalendariodeglieventi.i
 t per rimanere sempre aggiornato su ciò che succede nei dintorni.\n\nSe v
 ieni a conoscenza di un evento nella tua zona\, contattaci all'indirizzo e
 mail: postmaster@sefem-ilcalendariodeglieventi.it.
SUMMARY:Tributo a Vasco @ Bim Bum Bar
END:VEVENT
END:VCALENDAR
