BEGIN:VCALENDAR
VERSION:2.0
PRODID:icalendar-ruby
CALSCALE:GREGORIAN
METHOD:PUBLISH
BEGIN:VEVENT
DTSTAMP:20251008T114947Z
UID:9a34883d-6a92-4f14-b37b-1c4c52eb5a30
DTSTART;VALUE=DATE:20250205
DTEND;VALUE=DATE:20250205
CLASS:PRIVATE
DESCRIPTION:L'evento si terrà a \n\nVisita sefem-ilcalendariodeglieventi.i
 t per rimanere sempre aggiornato su ciò che succede nei dintorni.\n\nSe v
 ieni a conoscenza di un evento nella tua zona\, contattaci all'indirizzo e
 mail: postmaster@sefem-ilcalendariodeglieventi.it.
SUMMARY:Spettacolo - Hollywood e Vietnam\, dalla "Guerra fuoricampo" a Full
  Metal jacket
END:VEVENT
END:VCALENDAR
