BEGIN:VCALENDAR
VERSION:2.0
PRODID:icalendar-ruby
CALSCALE:GREGORIAN
METHOD:PUBLISH
BEGIN:VEVENT
DTSTAMP:20251008T114947Z
UID:33a3f39f-8bf5-4703-9b27-4a111f3c61af
DTSTART;VALUE=DATE:20250207
DTEND;VALUE=DATE:20250207
CLASS:PRIVATE
DESCRIPTION:L'evento si terrà a \n\nVisita sefem-ilcalendariodeglieventi.i
 t per rimanere sempre aggiornato su ciò che succede nei dintorni.\n\nSe v
 ieni a conoscenza di un evento nella tua zona\, contattaci all'indirizzo e
 mail: postmaster@sefem-ilcalendariodeglieventi.it.
SUMMARY:Concerto di San Girolamo
END:VEVENT
END:VCALENDAR
