BEGIN:VCALENDAR
VERSION:2.0
PRODID:icalendar-ruby
CALSCALE:GREGORIAN
METHOD:PUBLISH
BEGIN:VEVENT
DTSTAMP:20251008T114947Z
UID:ab86d56d-312d-4bd2-9e3c-c34fda21c470
DTSTART;VALUE=DATE:20250208
DTEND;VALUE=DATE:20250208
CLASS:PRIVATE
DESCRIPTION:L'evento si terrà a \n\nVisita sefem-ilcalendariodeglieventi.i
 t per rimanere sempre aggiornato su ciò che succede nei dintorni.\n\nSe v
 ieni a conoscenza di un evento nella tua zona\, contattaci all'indirizzo e
 mail: postmaster@sefem-ilcalendariodeglieventi.it.
SUMMARY:Cena con Delitto - Il Club del Giallo
END:VEVENT
END:VCALENDAR
