BEGIN:VCALENDAR
VERSION:2.0
PRODID:icalendar-ruby
CALSCALE:GREGORIAN
METHOD:PUBLISH
BEGIN:VEVENT
DTSTAMP:20251008T114947Z
UID:d58f7825-82c0-4cc5-b942-fbfa04bd1741
DTSTART;VALUE=DATE:20250402
DTEND;VALUE=DATE:20250402
CLASS:PRIVATE
DESCRIPTION:L'evento si terrà a \n\nVisita sefem-ilcalendariodeglieventi.i
 t per rimanere sempre aggiornato su ciò che succede nei dintorni.\n\nSe v
 ieni a conoscenza di un evento nella tua zona\, contattaci all'indirizzo e
 mail: postmaster@sefem-ilcalendariodeglieventi.it.
SUMMARY:Candle Night - Violino\, Violoncello e Arpa @ Antico Oleificio
END:VEVENT
END:VCALENDAR
