BEGIN:VCALENDAR
VERSION:2.0
PRODID:icalendar-ruby
CALSCALE:GREGORIAN
METHOD:PUBLISH
BEGIN:VEVENT
DTSTAMP:20251008T114947Z
UID:ec7c1f09-180b-4337-ac24-5b1ca35ceb8a
DTSTART;VALUE=DATE:20250417
DTEND;VALUE=DATE:20250417
CLASS:PRIVATE
DESCRIPTION:L'evento si terrà a \n\nVisita sefem-ilcalendariodeglieventi.i
 t per rimanere sempre aggiornato su ciò che succede nei dintorni.\n\nSe v
 ieni a conoscenza di un evento nella tua zona\, contattaci all'indirizzo e
 mail: postmaster@sefem-ilcalendariodeglieventi.it.
SUMMARY:Caffè Letterario 2025 - Pace e Conflitto
END:VEVENT
END:VCALENDAR
