BEGIN:VCALENDAR
VERSION:2.0
PRODID:icalendar-ruby
CALSCALE:GREGORIAN
METHOD:PUBLISH
BEGIN:VEVENT
DTSTAMP:20251008T114947Z
UID:ef80f515-0cd9-4cdf-9b1d-4d7334896c43
DTSTART;VALUE=DATE:20250221
DTEND;VALUE=DATE:20250221
CLASS:PRIVATE
DESCRIPTION:L'evento si terrà a \n\nVisita sefem-ilcalendariodeglieventi.i
 t per rimanere sempre aggiornato su ciò che succede nei dintorni.\n\nSe v
 ieni a conoscenza di un evento nella tua zona\, contattaci all'indirizzo e
 mail: postmaster@sefem-ilcalendariodeglieventi.it.
SUMMARY:After Sax - Disco di Zona x Bar Castello
END:VEVENT
END:VCALENDAR
