BEGIN:VCALENDAR
VERSION:2.0
PRODID:icalendar-ruby
CALSCALE:GREGORIAN
METHOD:PUBLISH
BEGIN:VEVENT
DTSTAMP:20251008T114947Z
UID:9657a13a-7b5b-4f0c-bc83-8422dcc00624
DTSTART:20250406T090000
DTEND:20250406T170000
CLASS:PRIVATE
DESCRIPTION:L'evento si terrà a \n\nVisita sefem-ilcalendariodeglieventi.i
 t per rimanere sempre aggiornato su ciò che succede nei dintorni.\n\nSe v
 ieni a conoscenza di un evento nella tua zona\, contattaci all'indirizzo e
 mail: postmaster@sefem-ilcalendariodeglieventi.it.
SUMMARY:6a Stracadina del Gusto
URL:https://www.comune.gaggiano.mi.it/it/eventi/stracadina-del-gusto-6-ediz
 ione-2025
END:VEVENT
END:VCALENDAR
